BEGIN:VCALENDAR
VERSION:2.0
PRODID:-//WYRZ.org - ECPv6.15.20//NONSGML v1.0//EN
CALSCALE:GREGORIAN
METHOD:PUBLISH
X-WR-CALNAME:WYRZ.org
X-ORIGINAL-URL:https://wyrz.org
X-WR-CALDESC:Events for WYRZ.org
REFRESH-INTERVAL;VALUE=DURATION:PT1H
X-Robots-Tag:noindex
X-PUBLISHED-TTL:PT1H
BEGIN:VTIMEZONE
TZID:America/Indiana/Indianapolis
BEGIN:DAYLIGHT
TZOFFSETFROM:-0500
TZOFFSETTO:-0400
TZNAME:EDT
DTSTART:20230312T070000
END:DAYLIGHT
BEGIN:STANDARD
TZOFFSETFROM:-0400
TZOFFSETTO:-0500
TZNAME:EST
DTSTART:20231105T060000
END:STANDARD
BEGIN:DAYLIGHT
TZOFFSETFROM:-0500
TZOFFSETTO:-0400
TZNAME:EDT
DTSTART:20240310T070000
END:DAYLIGHT
BEGIN:STANDARD
TZOFFSETFROM:-0400
TZOFFSETTO:-0500
TZNAME:EST
DTSTART:20241103T060000
END:STANDARD
BEGIN:DAYLIGHT
TZOFFSETFROM:-0500
TZOFFSETTO:-0400
TZNAME:EDT
DTSTART:20250309T070000
END:DAYLIGHT
BEGIN:STANDARD
TZOFFSETFROM:-0400
TZOFFSETTO:-0500
TZNAME:EST
DTSTART:20251102T060000
END:STANDARD
END:VTIMEZONE
BEGIN:VEVENT
DTSTART;TZID=America/Indiana/Indianapolis:20240822T160000
DTEND;TZID=America/Indiana/Indianapolis:20240822T220000
DTSTAMP:20260422T181904
CREATED:20240812T120452Z
LAST-MODIFIED:20240812T120819Z
UID:42206-1724342400-1724364000@wyrz.org
SUMMARY:Brownsburg American Legion Bingo Night
DESCRIPTION:Thursday night bingo !American Legion COl. Billie J. Holmes Memorial Post 331636 E. Main St. Brownsburg4:00 doors open\, sales begin at 5:006:00 early bird games7:00 regular gamesRegular games package $20 cash or check with ATM on siteNew prizes\, pull tabs and door prizes.Only bingo players are allowed in the hall.No outside drinks are allowed\, but food is.Proceeds benefit veterans\, military\, and their families.
URL:https://wyrz.org/event/brownsburg-american-legion-bingo-night-2/
LOCATION:Brownsburg American Legion\, 636 E Main St\, Brownsburg\, IN\, 46112
ATTACH;FMTTYPE=image/jpeg:https://wyrz.org/wp-content/uploads/2024/08/WYRZ-Landscape-Facebook1.jpg
END:VEVENT
BEGIN:VEVENT
DTSTART;TZID=America/Indiana/Indianapolis:20240815T160000
DTEND;TZID=America/Indiana/Indianapolis:20240815T220000
DTSTAMP:20260422T181904
CREATED:20240812T120230Z
LAST-MODIFIED:20240812T120857Z
UID:42200-1723737600-1723759200@wyrz.org
SUMMARY:Brownsburg American Legion Bingo Night
DESCRIPTION:Thursday night bingo !American Legion COl. Billie J. Holmes Memorial Post 331636 E. Main St. Brownsburg4:00 doors open\, sales begin at 5:006:00 early bird games7:00 regular gamesRegular games package $20 cash or check with ATM on siteNew prizes\, pull tabs and door prizes.Only bingo players are allowed in the hall.No outside drinks are allowed\, but food is.Proceeds benefit veterans\, military\, and their families.
URL:https://wyrz.org/event/brownsburg-american-legion-bingo-night/
LOCATION:Brownsburg American Legion\, 636 E Main St\, Brownsburg\, IN\, 46112
ATTACH;FMTTYPE=image/jpeg:https://wyrz.org/wp-content/uploads/2024/08/WYRZ-Landscape-Facebook1.jpg
END:VEVENT
BEGIN:VEVENT
DTSTART;TZID=America/Indiana/Indianapolis:20240810T080000
DTEND;TZID=America/Indiana/Indianapolis:20240810T170000
DTSTAMP:20260422T181904
CREATED:20240729T133545Z
LAST-MODIFIED:20240804T135009Z
UID:42019-1723276800-1723309200@wyrz.org
SUMMARY:Hendricks County Tailgate Fest
DESCRIPTION:
URL:https://wyrz.org/event/hendricks-county-tailgate-fest-august-10th/
LOCATION:Avon United Methodist Church\, 6850 E US HWY 36\, Avon\, Indiana\, 46123\, United States
CATEGORIES:Events Calendar
ATTACH;FMTTYPE=image/jpeg:https://wyrz.org/wp-content/uploads/2024/08/WYRZ-Landscape-Facebook1.jpg
END:VEVENT
BEGIN:VEVENT
DTSTART;TZID=America/Indiana/Indianapolis:20240807T180000
DTEND;TZID=America/Indiana/Indianapolis:20240807T210000
DTSTAMP:20260422T181904
CREATED:20240801T233653Z
LAST-MODIFIED:20240804T135009Z
UID:42093-1723053600-1723064400@wyrz.org
SUMMARY:Avon Culver's Cruise-In
DESCRIPTION:Free Monthly Cruise-In Event on the 1st Wednesday of each month April through October at the Avon Culver’s
URL:https://wyrz.org/event/avon-culvers-cruise-in/
LOCATION:Avon Culver’s\, 7649 East US HWY 36\, Avon\, Indiana\, 46123
CATEGORIES:Events Calendar
ATTACH;FMTTYPE=image/jpeg:https://wyrz.org/wp-content/uploads/2024/08/WYRZ-Landscape-Facebook1.jpg
END:VEVENT
BEGIN:VEVENT
DTSTART;TZID=America/Indiana/Indianapolis:20240802T170000
DTEND;TZID=America/Indiana/Indianapolis:20240802T210000
DTSTAMP:20260422T181904
CREATED:20240801T163058Z
LAST-MODIFIED:20240804T135010Z
UID:42085-1722618000-1722632400@wyrz.org
SUMMARY:First Friday Cruise-in
DESCRIPTION:Enjoy cool cars around the historic Danville Square for this monthly event that takes place the first Friday of every month from May until October.
URL:https://wyrz.org/event/first-friday-cruise-in/
LOCATION:Danville Historic Square\, 1 Courthouse Sq\, Danville\, Indiana\, 46122
CATEGORIES:Events Calendar
ATTACH;FMTTYPE=image/jpeg:https://wyrz.org/wp-content/uploads/2024/08/WYRZ-Landscape-Facebook1.jpg
END:VEVENT
END:VCALENDAR