BEGIN:VCALENDAR
VERSION:2.0
PRODID:-//WYRZ.org - ECPv6.15.20//NONSGML v1.0//EN
CALSCALE:GREGORIAN
METHOD:PUBLISH
X-WR-CALNAME:WYRZ.org
X-ORIGINAL-URL:https://wyrz.org
X-WR-CALDESC:Events for WYRZ.org
REFRESH-INTERVAL;VALUE=DURATION:PT1H
X-Robots-Tag:noindex
X-PUBLISHED-TTL:PT1H
BEGIN:VTIMEZONE
TZID:America/Indiana/Indianapolis
BEGIN:DAYLIGHT
TZOFFSETFROM:-0500
TZOFFSETTO:-0400
TZNAME:EDT
DTSTART:20230312T070000
END:DAYLIGHT
BEGIN:STANDARD
TZOFFSETFROM:-0400
TZOFFSETTO:-0500
TZNAME:EST
DTSTART:20231105T060000
END:STANDARD
BEGIN:DAYLIGHT
TZOFFSETFROM:-0500
TZOFFSETTO:-0400
TZNAME:EDT
DTSTART:20240310T070000
END:DAYLIGHT
BEGIN:STANDARD
TZOFFSETFROM:-0400
TZOFFSETTO:-0500
TZNAME:EST
DTSTART:20241103T060000
END:STANDARD
BEGIN:DAYLIGHT
TZOFFSETFROM:-0500
TZOFFSETTO:-0400
TZNAME:EDT
DTSTART:20250309T070000
END:DAYLIGHT
BEGIN:STANDARD
TZOFFSETFROM:-0400
TZOFFSETTO:-0500
TZNAME:EST
DTSTART:20251102T060000
END:STANDARD
END:VTIMEZONE
BEGIN:VEVENT
DTSTART;TZID=America/Indiana/Indianapolis:20241004T170000
DTEND;TZID=America/Indiana/Indianapolis:20241004T200000
DTSTAMP:20260422T182833
CREATED:20240919T131548Z
LAST-MODIFIED:20240919T131551Z
UID:42615-1728061200-1728072000@wyrz.org
SUMMARY:Christ Church Family Fall Festival
DESCRIPTION:
URL:https://wyrz.org/event/christ-church-family-fall-festival/
LOCATION:Christ Church in Plainfield\, 550 St Luke Dr\, Plainfield\, Indiana\, 46168
ATTACH;FMTTYPE=image/jpeg:https://wyrz.org/wp-content/uploads/2024/08/WYRZ-Landscape-Facebook1.jpg
END:VEVENT
BEGIN:VEVENT
DTSTART;TZID=America/Indiana/Indianapolis:20240928T110000
DTEND;TZID=America/Indiana/Indianapolis:20240928T150000
DTSTAMP:20260422T182833
CREATED:20240919T103652Z
LAST-MODIFIED:20240919T104108Z
UID:42574-1727521200-1727535600@wyrz.org
SUMMARY:Celebrating Avon
DESCRIPTION:Avon\, IN— All are welcome at the Annual Celebrating Avon Festival at the Avon-Washington Township Public Library! The festival takes place on Saturday\, September 28\, 2024\, 11 a.m.—3 p.m. both inside and outside of the library. This is a free\, family-friendly event that is open to the public.  \n\n\n\nThere will be music provided by 98.9 WYRZ\, food available for purchase\, games for kids\, and City Ranch Petting Zoo! Kevin Stonerock will give a performance at 11:30 a.m. on the Centennial Stage outside the library called\, “A Visit with a Hoosier Pioneer.” Walk along the “Pioneer Path” which showcases local artisans and includes woodworking\, bee-keeping\, rosemaling\, drop-spinning\, pottery\, printmaking\, glass blowing\, and more!  The festival will also have antique tractors\, model trains\, a K9 demonstration from Avon Police Department\, a giant inflatable slide\, and of course a candy drop by Hendricks Power Cooperative!  \n\n\n\nWe will Ring the bell to kick-off the event at 11 a.m. Please join us inside the library at 11:15 a.m. as we honor two special “Everyday Heroes\,” Sue and Steve Pearl. Play putt-putt and check out an antique petting zoo in the Huron Room. The Friends of the Library’s Bookstore will be open on the lower level of the library\, as well.  \n\n\n\nParking is available at the library\, 498 N. Avon Ave.\, Avon\, IN 46123. Registration is not required\, and you don’t need a ticket to attend.  \n\n\n\nPlease visit our website avonlibrary.net and click on “Events Calendar” to see a full schedule and more details\, or check out the event listing on Facebook. We hope you will join us and your neighbors as we Celebrate Avon at the library!  \n\n\n\nThis event is endorsed by the Hendricks County Bicentennial Committee.
URL:https://wyrz.org/event/celebrating-avon/
LOCATION:Avon-Washington Township Public Library\, 498 N Avon Ave\, Avon\, Indiana\, 46123
ATTACH;FMTTYPE=image/jpeg:https://wyrz.org/wp-content/uploads/2024/08/WYRZ-Landscape-Facebook1.jpg
END:VEVENT
BEGIN:VEVENT
DTSTART;TZID=America/Indiana/Indianapolis:20240928T090000
DTEND;TZID=America/Indiana/Indianapolis:20240928T140000
DTSTAMP:20260422T182833
CREATED:20240919T104721Z
LAST-MODIFIED:20240919T104723Z
UID:42587-1727514000-1727532000@wyrz.org
SUMMARY:Run for INAD 5K & Car Show
DESCRIPTION:
URL:https://wyrz.org/event/run-for-inad-5k-car-show/
LOCATION:Hendricks County 4-H Fairgrounds\, 1900 E Main St\, Danville\, Indiana\, 46112
ATTACH;FMTTYPE=image/jpeg:https://wyrz.org/wp-content/uploads/2024/08/WYRZ-Landscape-Facebook1.jpg
END:VEVENT
BEGIN:VEVENT
DTSTART;TZID=America/Indiana/Indianapolis:20240918T173000
DTEND;TZID=America/Indiana/Indianapolis:20240918T210000
DTSTAMP:20260422T182833
CREATED:20240815T112800Z
LAST-MODIFIED:20240815T112803Z
UID:42241-1726680600-1726693200@wyrz.org
SUMMARY:Meet the Candidate Forum
DESCRIPTION:The Hendricks County Community Foundation (HCCF)\, in collaboration with the Hendricks County Democrats\, Hendricks County GOP\, and The Republican newspaper\, is excited to announce the upcoming Meet the Candidate Forums this September. These events provide an excellent opportunity for Hendricks County residents to engage directly with the candidates running in the 2024 General Election. \n\n\n\nEvent Details: \n\n\n\n\nDates: September 11th and September 18th\n\n\n\nTime: 5:30 PM – 9:00 PM\n\n\n\nLocation: North and South Halls\, Hendricks County 4-H Fairgrounds and Conference Complex\n\n\n\n\nCandidate Stage Representation: \n\n\n\n\nSeptember 11th\n\n\n\nState Senate District 24\n\n\n\nState Senate District 35\n\n\n\nState Representative District 25\n\n\n\nState Representative District 28\n\n\n\nAttorney General\n\n\n\nSeptember 18\n\n\n\nHendricks County Commissioner District II\n\n\n\nHendricks County Commissioner District III\n\n\n\nHendricks County Council At Large\n\n\n\nState Rep District 40\n\n\n\n\nAll candidates will be invited to set up a table where attendees can ask questions and have personal interactions. Tabling will open at 5:30 pm and close at 6:45 pm each night. Following the tabling\, contested candidates will be given an opportunity to speak on stage\, beginning at 7:00 pm and concluding at 9:00 pm. During the stage portion\, candidates will answer pre-approved questions in a formal setting. This will not be a debate. \n\n\n\nIf you have specific questions you want the candidates to address on stage\, please submit your questions by scanning the QR code below and filling out the survey. All questions will remain anonymous. \n\n\n\nSubmit Questions to Candidates\n\n\n\nIf you missed the primaries\, you can catch up on what the candidates had to say during the March 2024 Meet the Candidates Forums by viewing the recordings on the HCCF website at http://www.hendrickscountycf.org. \n\n\n\nScan the QR code below to RSVP for the September forums. For those who are unable to attend\, the sessions will be recorded and shared on YouTube for future viewing. \n\n\n\nVoter RSVP\n\n\n\nFor more information about voting in Hendricks County\, please visit http://www.votehc.org/. \n\n\n\nJoin us and make your voice heard in shaping the future of Hendricks County.
URL:https://wyrz.org/event/meet-the-candidate-forum-2/
LOCATION:Hendricks County 4-H Fairgrounds\, 1900 E Main St\, Danville\, Indiana\, 46112
ATTACH;FMTTYPE=image/jpeg:https://wyrz.org/wp-content/uploads/2024/08/WYRZ-Landscape-Facebook1.jpg
END:VEVENT
BEGIN:VEVENT
DTSTART;TZID=America/Indiana/Indianapolis:20240915T110000
DTEND;TZID=America/Indiana/Indianapolis:20240915T180000
DTSTAMP:20260422T182833
CREATED:20240815T122855Z
LAST-MODIFIED:20240815T122934Z
UID:42247-1726398000-1726423200@wyrz.org
SUMMARY:Tri-West High School Band Program Mattress Fundraiser
DESCRIPTION:If you or someone you know is looking to replace a bed in your home\, nowis the time. Tri-West High School Band Program is hosting a one-dayMattress Fundraiser on Sunday\, September 15th\, from 11am-6pm. There willbe 30 different styles of beds on display for customers to try.  Thebrand-name mattresses are made to order\, have full factory warranties\,are available in all sizes\, and are priced below retail.  In addition tobeds\, there will be luxury pillows\, premium sheets\, adjustable powerbases\, and even convertible bean bag chairs! Delivery & financing areavailable. \n\n\n\nMeet our Mattress Superhero – our dedicated guardian of good sleep andeducation! Join him in being a Superhero and help the program’sfundraising dreams come true!
URL:https://wyrz.org/event/tri-west-high-school-band-program-mattress-fundraiser/
LOCATION:Tri-West High School\, 7883 IN-39\, Lizton\, Indiana
ATTACH;FMTTYPE=image/jpeg:https://wyrz.org/wp-content/uploads/2024/08/WYRZ-Landscape-Facebook1.jpg
END:VEVENT
BEGIN:VEVENT
DTSTART;TZID=America/Indiana/Indianapolis:20240914T090000
DTEND;TZID=America/Indiana/Indianapolis:20240914T130000
DTSTAMP:20260422T182833
CREATED:20240815T130850Z
LAST-MODIFIED:20240815T130853Z
UID:42258-1726304400-1726318800@wyrz.org
SUMMARY:Hendricks County Scrap Tire Amnesty Day
DESCRIPTION:Open to Hendricks County Residents. All tires accepted; car\, semi\, farm tires\, etc. For more information please contact The Hendricks County Health Department at 317-718-6010.
URL:https://wyrz.org/event/hendricks-county-scrap-tire-amnesty-day/
LOCATION:Hendricks County 4-H Fairgrounds\, 1900 E Main St\, Danville\, Indiana\, 46112
ATTACH;FMTTYPE=image/jpeg:https://wyrz.org/wp-content/uploads/2024/08/WYRZ-Landscape-Facebook1.jpg
END:VEVENT
BEGIN:VEVENT
DTSTART;TZID=America/Indiana/Indianapolis:20240911T173000
DTEND;TZID=America/Indiana/Indianapolis:20240911T210000
DTSTAMP:20260422T182833
CREATED:20240815T112538Z
LAST-MODIFIED:20240815T112545Z
UID:42233-1726075800-1726088400@wyrz.org
SUMMARY:Meet the Candidate Forum
DESCRIPTION:The Hendricks County Community Foundation (HCCF)\, in collaboration with the Hendricks County Democrats\, Hendricks County GOP\, and The Republican newspaper\, is excited to announce the upcoming Meet the Candidate Forums this September. These events provide an excellent opportunity for Hendricks County residents to engage directly with the candidates running in the 2024 General Election. \n\n\n\nEvent Details: \n\n\n\n\nDates: September 11th and September 18th\n\n\n\nTime: 5:30 PM – 9:00 PM\n\n\n\nLocation: North and South Halls\, Hendricks County 4-H Fairgrounds and Conference Complex\n\n\n\n\nCandidate Stage Representation: \n\n\n\n\nSeptember 11th\n\n\n\nState Senate District 24\n\n\n\nState Senate District 35\n\n\n\nState Representative District 25\n\n\n\nState Representative District 28\n\n\n\nAttorney General\n\n\n\nSeptember 18\n\n\n\nHendricks County Commissioner District II\n\n\n\nHendricks County Commissioner District III\n\n\n\nHendricks County Council At Large\n\n\n\nState Rep District 40\n\n\n\n\nAll candidates will be invited to set up a table where attendees can ask questions and have personal interactions. Tabling will open at 5:30 pm and close at 6:45 pm each night. Following the tabling\, contested candidates will be given an opportunity to speak on stage\, beginning at 7:00 pm and concluding at 9:00 pm. During the stage portion\, candidates will answer pre-approved questions in a formal setting. This will not be a debate. \n\n\n\nIf you have specific questions you want the candidates to address on stage\, please submit your questions by scanning the QR code below and filling out the survey. All questions will remain anonymous. \n\n\n\nSubmit Questions to Candidates\n\n\n\nIf you missed the primaries\, you can catch up on what the candidates had to say during the March 2024 Meet the Candidates Forums by viewing the recordings on the HCCF website at http://www.hendrickscountycf.org.Scan the QR code below to RSVP for the September forums. For those who are unable to attend\, the sessions will be recorded and shared on YouTube for future viewing.\n\n\n\nVoter RSVPFor more information about voting in Hendricks County\, please visit http://www.votehc.org/.Join us and make your voice heard in shaping the future of Hendricks County.
URL:https://wyrz.org/event/meet-the-candidate-forum/
LOCATION:Hendricks County 4-H Fairgrounds\, 1900 E Main St\, Danville\, Indiana\, 46112
ATTACH;FMTTYPE=image/jpeg:https://wyrz.org/wp-content/uploads/2024/08/WYRZ-Landscape-Facebook1.jpg
END:VEVENT
BEGIN:VEVENT
DTSTART;TZID=America/Indiana/Indianapolis:20240829T160000
DTEND;TZID=America/Indiana/Indianapolis:20240829T220000
DTSTAMP:20260422T182833
CREATED:20240812T120713Z
LAST-MODIFIED:20240812T120716Z
UID:42209-1724947200-1724968800@wyrz.org
SUMMARY:Brownsburg American Legion Bingo Night
DESCRIPTION:Thursday night bingo !American Legion COl. Billie J. Holmes Memorial Post 331636 E. Main St. Brownsburg4:00 doors open\, sales begin at 5:006:00 early bird games7:00 regular gamesRegular games package $20 cash or check with ATM on siteNew prizes\, pull tabs and door prizes.Only bingo players are allowed in the hall.No outside drinks are allowed\, but food is.Proceeds benefit veterans\, military\, and their families.
URL:https://wyrz.org/event/brownsburg-american-legion-bingo-night-3/
LOCATION:Brownsburg American Legion\, 636 E Main St\, Brownsburg\, IN\, 46112
ATTACH;FMTTYPE=image/jpeg:https://wyrz.org/wp-content/uploads/2024/08/WYRZ-Landscape-Facebook1.jpg
END:VEVENT
BEGIN:VEVENT
DTSTART;TZID=America/Indiana/Indianapolis:20240824T190000
DTEND;TZID=America/Indiana/Indianapolis:20240824T210000
DTSTAMP:20260422T182833
CREATED:20240824T210649Z
LAST-MODIFIED:20240824T211925Z
UID:42373-1724526000-1724533200@wyrz.org
SUMMARY:Hummel Park Free Concert
DESCRIPTION:Head out to Hummel Park to enjoy a free concert at their outdoor performance center at 7pm
URL:https://wyrz.org/event/hummel-park-free-concert-2/
LOCATION:Hummel Park Performing Arts Center\, 5373 South Sugar Grove Rd\, Plainfield\, Indiana\, 46032
ATTACH;FMTTYPE=image/webp:https://wyrz.org/wp-content/uploads/2024/08/IMG_2072.webp
END:VEVENT
BEGIN:VEVENT
DTSTART;TZID=America/Indiana/Indianapolis:20240823T180000
DTEND;TZID=America/Indiana/Indianapolis:20240823T220000
DTSTAMP:20260422T182833
CREATED:20240823T191032Z
LAST-MODIFIED:20240823T191035Z
UID:42337-1724436000-1724450400@wyrz.org
SUMMARY:Williams Park Double Feature
DESCRIPTION:Double Feature Tonight at Williams Park! \n\n\n\nAt 6 PM the double feature kicks off with Jumanji: Welcome to the Jungle and then Honey\, I Shrunk the Kids at 8 PM! Bring a blanket or lawn chair to sit outdoors. Free popcorn will be available!
URL:https://wyrz.org/event/williams-park-double-feature/
LOCATION:Williams Park\, 940 Locust Ln\, Brownsburg\, Indiana\, 46112
ATTACH;FMTTYPE=image/jpeg:https://wyrz.org/wp-content/uploads/2024/08/movies-in-the-park.jpg
END:VEVENT
BEGIN:VEVENT
DTSTART;TZID=America/Indiana/Indianapolis:20240823T173000
DTEND;TZID=America/Indiana/Indianapolis:20240823T213000
DTSTAMP:20260422T182833
CREATED:20240823T185844Z
LAST-MODIFIED:20240823T191414Z
UID:42330-1724434200-1724448600@wyrz.org
SUMMARY:Washington Township Food Truck Festival and Free Summer Concert
DESCRIPTION:The Food Truck Festival and Ampitheater Series Concert with The Elizabeth Lee Band at the Washington Township Park is a great free event that will feature: \n\n\n\n\nFree Family Fun Zone featuring safety-monitored bounce houses\, slides\, and a variety of yard games such as Giant Jenga\, Connect Four\, Football Toss Targets\, Frisbee Golf sets\, Cornhole sets\, Putterball\, and more.\n\n\n\n\n\n Food Trucks\n\n\n\n\n\nFree access to park playgrounds\, splash pad\, pickle ball courts and walking trails\n\n\n\n\nFind out about other concerts in Hendricks County by visiting Hendricks County Free Summer Concerts – WYRZ.org
URL:https://wyrz.org/event/washington-township-food-truck-festival-and-free-summer-concert/
LOCATION:Washington Township Park\, 435 Whipple Lane\, Avon\, Indiana\, 46123
ATTACH;FMTTYPE=image/jpeg:https://wyrz.org/wp-content/uploads/2024/08/washington-township-food-truck-festival.jpg
END:VEVENT
BEGIN:VEVENT
DTSTART;TZID=America/Indiana/Indianapolis:20240822T160000
DTEND;TZID=America/Indiana/Indianapolis:20240822T220000
DTSTAMP:20260422T182833
CREATED:20240812T120452Z
LAST-MODIFIED:20240812T120819Z
UID:42206-1724342400-1724364000@wyrz.org
SUMMARY:Brownsburg American Legion Bingo Night
DESCRIPTION:Thursday night bingo !American Legion COl. Billie J. Holmes Memorial Post 331636 E. Main St. Brownsburg4:00 doors open\, sales begin at 5:006:00 early bird games7:00 regular gamesRegular games package $20 cash or check with ATM on siteNew prizes\, pull tabs and door prizes.Only bingo players are allowed in the hall.No outside drinks are allowed\, but food is.Proceeds benefit veterans\, military\, and their families.
URL:https://wyrz.org/event/brownsburg-american-legion-bingo-night-2/
LOCATION:Brownsburg American Legion\, 636 E Main St\, Brownsburg\, IN\, 46112
ATTACH;FMTTYPE=image/jpeg:https://wyrz.org/wp-content/uploads/2024/08/WYRZ-Landscape-Facebook1.jpg
END:VEVENT
BEGIN:VEVENT
DTSTART;TZID=America/Indiana/Indianapolis:20240815T160000
DTEND;TZID=America/Indiana/Indianapolis:20240815T220000
DTSTAMP:20260422T182833
CREATED:20240812T120230Z
LAST-MODIFIED:20240812T120857Z
UID:42200-1723737600-1723759200@wyrz.org
SUMMARY:Brownsburg American Legion Bingo Night
DESCRIPTION:Thursday night bingo !American Legion COl. Billie J. Holmes Memorial Post 331636 E. Main St. Brownsburg4:00 doors open\, sales begin at 5:006:00 early bird games7:00 regular gamesRegular games package $20 cash or check with ATM on siteNew prizes\, pull tabs and door prizes.Only bingo players are allowed in the hall.No outside drinks are allowed\, but food is.Proceeds benefit veterans\, military\, and their families.
URL:https://wyrz.org/event/brownsburg-american-legion-bingo-night/
LOCATION:Brownsburg American Legion\, 636 E Main St\, Brownsburg\, IN\, 46112
ATTACH;FMTTYPE=image/jpeg:https://wyrz.org/wp-content/uploads/2024/08/WYRZ-Landscape-Facebook1.jpg
END:VEVENT
BEGIN:VEVENT
DTSTART;TZID=America/Indiana/Indianapolis:20240810T080000
DTEND;TZID=America/Indiana/Indianapolis:20240810T170000
DTSTAMP:20260422T182833
CREATED:20240729T133545Z
LAST-MODIFIED:20240804T135009Z
UID:42019-1723276800-1723309200@wyrz.org
SUMMARY:Hendricks County Tailgate Fest
DESCRIPTION:
URL:https://wyrz.org/event/hendricks-county-tailgate-fest-august-10th/
LOCATION:Avon United Methodist Church\, 6850 E US HWY 36\, Avon\, Indiana\, 46123\, United States
CATEGORIES:Events Calendar
ATTACH;FMTTYPE=image/jpeg:https://wyrz.org/wp-content/uploads/2024/08/WYRZ-Landscape-Facebook1.jpg
END:VEVENT
BEGIN:VEVENT
DTSTART;TZID=America/Indiana/Indianapolis:20240807T180000
DTEND;TZID=America/Indiana/Indianapolis:20240807T210000
DTSTAMP:20260422T182833
CREATED:20240801T233653Z
LAST-MODIFIED:20240804T135009Z
UID:42093-1723053600-1723064400@wyrz.org
SUMMARY:Avon Culver's Cruise-In
DESCRIPTION:Free Monthly Cruise-In Event on the 1st Wednesday of each month April through October at the Avon Culver’s
URL:https://wyrz.org/event/avon-culvers-cruise-in/
LOCATION:Avon Culver’s\, 7649 East US HWY 36\, Avon\, Indiana\, 46123
CATEGORIES:Events Calendar
ATTACH;FMTTYPE=image/jpeg:https://wyrz.org/wp-content/uploads/2024/08/WYRZ-Landscape-Facebook1.jpg
END:VEVENT
BEGIN:VEVENT
DTSTART;TZID=America/Indiana/Indianapolis:20240802T170000
DTEND;TZID=America/Indiana/Indianapolis:20240802T210000
DTSTAMP:20260422T182833
CREATED:20240801T163058Z
LAST-MODIFIED:20240804T135010Z
UID:42085-1722618000-1722632400@wyrz.org
SUMMARY:First Friday Cruise-in
DESCRIPTION:Enjoy cool cars around the historic Danville Square for this monthly event that takes place the first Friday of every month from May until October.
URL:https://wyrz.org/event/first-friday-cruise-in/
LOCATION:Danville Historic Square\, 1 Courthouse Sq\, Danville\, Indiana\, 46122
CATEGORIES:Events Calendar
ATTACH;FMTTYPE=image/jpeg:https://wyrz.org/wp-content/uploads/2024/08/WYRZ-Landscape-Facebook1.jpg
END:VEVENT
END:VCALENDAR