BEGIN:VCALENDAR
VERSION:2.0
PRODID:-//WYRZ.org - ECPv6.15.20//NONSGML v1.0//EN
CALSCALE:GREGORIAN
METHOD:PUBLISH
X-ORIGINAL-URL:https://wyrz.org
X-WR-CALDESC:Events for WYRZ.org
REFRESH-INTERVAL;VALUE=DURATION:PT1H
X-Robots-Tag:noindex
X-PUBLISHED-TTL:PT1H
BEGIN:VTIMEZONE
TZID:America/Indiana/Indianapolis
BEGIN:DAYLIGHT
TZOFFSETFROM:-0500
TZOFFSETTO:-0400
TZNAME:EDT
DTSTART:20250309T070000
END:DAYLIGHT
BEGIN:STANDARD
TZOFFSETFROM:-0400
TZOFFSETTO:-0500
TZNAME:EST
DTSTART:20251102T060000
END:STANDARD
BEGIN:DAYLIGHT
TZOFFSETFROM:-0500
TZOFFSETTO:-0400
TZNAME:EDT
DTSTART:20260308T070000
END:DAYLIGHT
BEGIN:STANDARD
TZOFFSETFROM:-0400
TZOFFSETTO:-0500
TZNAME:EST
DTSTART:20261101T060000
END:STANDARD
BEGIN:DAYLIGHT
TZOFFSETFROM:-0500
TZOFFSETTO:-0400
TZNAME:EDT
DTSTART:20270314T070000
END:DAYLIGHT
BEGIN:STANDARD
TZOFFSETFROM:-0400
TZOFFSETTO:-0500
TZNAME:EST
DTSTART:20271107T060000
END:STANDARD
END:VTIMEZONE
BEGIN:VEVENT
DTSTART;TZID=America/Indiana/Indianapolis:20260214T110000
DTEND;TZID=America/Indiana/Indianapolis:20260214T170000
DTSTAMP:20260422T181531
CREATED:20260205T143032Z
LAST-MODIFIED:20260205T143250Z
UID:46411-1771066800-1771088400@wyrz.org
SUMMARY:Creekside Animal Rescue Cat Adoption
DESCRIPTION:You can’t buy love but you can rescue it” \n\n\n\nCreekside Animal Rescue will be holding a Cat Adoption Event  \n\n\n\nSaturday\, February 14 from 11:00am to 5:00pm at Plainfield Petsmart. \n\n\n\nCreekside currently has adult cats and kittens available for adoption. \n\n\n\nMany people look for kittens and older cats are overlooked.  Adopting an older cat gives a deserving cat a loving home.   \n\n\n\nThere are many benefits to adopting an older cat that include: \n\n\n\nAdult cats have fully developed personalities\, allowing you to choose a pet that  fits your lifestyle.  \n\n\n\nAdult cats are generally calmer than kittens.  \n\n\n\nMost adult cats have outgrown the teething and exploratory phases.  \n\n\n\nThey are less likely to chew on furniture or climb curtains.  \n\n\n\nMany adult cats are litter-box trained and understand household routines.  \n\n\n\nThis is beneficial for first-time cat owners. 
URL:https://wyrz.org/event/creekside-animal-rescue-cat-adoption/
LOCATION:PetSmart in Plainfield\, 2677 E Main St\, Plainfield\, Indiana\, 46168
ATTACH;FMTTYPE=image/jpeg:https://wyrz.org/wp-content/uploads/2026/02/Cat.jpg
ORGANIZER;CN="Creekside Animal Rescue":MAILTO:creeksiderescue@gmail.com
END:VEVENT
BEGIN:VEVENT
DTSTART;TZID=America/Indiana/Indianapolis:20260214T180000
DTEND;TZID=America/Indiana/Indianapolis:20260214T213000
DTSTAMP:20260422T181531
CREATED:20260112T142742Z
LAST-MODIFIED:20260112T143204Z
UID:46242-1771092000-1771104600@wyrz.org
SUMMARY:Winning Big for Families of Hendricks County: A Valentine Royale Casino Night
DESCRIPTION:Indianapolis\, IN—January 8\, 2026— This year has placed an extraordinary amount of strain on families in our community. Every day\, the front doors of Family Promise are open to serve those struggling individuals and to offer hope and kindness. In order to keep up with the demand\, Family Promise is planning its first Casino Night Royale fundraising event on February 14\, 2026\, with their presenting sponsor Cunningham Restaurant Group. Attendees can expect a glamourous evening of fun and fundraising with host Rafael Sanchez from Fox59 News! All funds raised from this event will support Family Promise of Hendricks County\, helping families in the community have the opportunity for economic stability. \n\n\n\nThe goal for the casino night event is to raise significant funds to continue to provide stability services to Hendricks County families like accessing affordable housing and childcare\, transportation\, and employment assistance\, and also to support the Almost Home Emergency Shelter which remains at capacity every week and hosts a long waitlist for those seeking shelter. \n\n\n\nThe Casino Night experience is sure to impress guests 21-years-old and up with a plated meal prepared by Chef de Cuisine Collin Hilton (2025 World Food Champion)\, Vegas-style casino games for the chance to win prizes\, a dessert dash with sweet treats donated by your favorite local bakeries (including Mama Bird Bakery\, Two  Chicks Whisky Business\, Creation Cafe\, and more)\, as well as both live and silent auctions with exciting items like gift baskets curated by local shops\, Kentucky Kingdom tickets\, a $500 gift card to Brown County Vacation Rentals\, and a pair of men’s size 13 Nike Kobe 6 Protro Reverse Grinch sneakers! Individual tickets and sponsorships are available for purchase on the event website: https://qtego.us/l/familypromisehc/tickets \n\n\n\n“Our community is buzzing with excitement for Family Promise of Hendricks County’s Valentine Royale Casino Night! It’s going to be a fun and meaningful evening out – one where every spin\, roll\, and hand of cards helps create lasting change. Family Promise is not only providing immediate relief for families\, but also building sustainable solutions that ensure every family has a safe and secure place to call home\,” said Anne Inman\, Board Member\, Family Promise of Hendricks County \n\n\n\nFamily Promise of Hendricks County encourages interested local businesses and groups to become sponsors of the event! Sponsorship options start at $500\, and all \n\n\n\ninclude entry to the event\, welcome drink and plated meal\, chips for play at casino games\, and raffle tickets for a chance to win a prize. Premiere sponsorship levels are available and come with publicized recognition in promoting the event and during the program itself. \n\n\n\n“We at Cunningham Restaurant Group are so pleased and appreciative to assist Family Promise in their mission to support the families of Hendricks County and beyond. Hendricks County communities are the foundation blocks upon which our company was built. The opportunity to support those communities through organizations like Family Promise are both a gift and an honor\,” said Mike Cunningham\, founder and CEO\, Cunningham Restaurant Group. \n\n\n\nInformation about the Valentine Royale Casino Night\, including the page to purchase event tickets and sponsorships\, is available on this website: https://familypromisehc.home.qtego.us/ \n\n\n\nFor more information\, please contact Partnership Marketing Consultant Kasey Upchurch at kasey@familypromisehendrickscounty.org. \n\n\n\nABOUT FAMILY PROMISE OF HENDRICKS COUNTY \n\n\n\nFamily Promise of Hendricks County works to ensure every family in the community has a safe\, affordable home and the opportunity for economic stability. In 2024\, homelessness ended for 126 families\, was prevented for 976 families\, and stability services were provided to over 3\,000 households. The State Bank Plainfield Resource Center is home to the organization and is located at 238 N\, Vine St\, Plainfield\, Indiana. It serves as a vibrant hub where those experiencing homelessness and housing instability in Hendricks County can access affordable housing\, childcare\, transportation\, employment assistance and life skills to achieve stability. It is open for those struggling to eat\, shower\, do laundry\, and access computers and phones. Family Promise Advocates provide all the services and support needed to move families and individuals from poverty to sustainable independence. The Center houses the offices of our Stability Builders Network that work to prevent homelessness. Lives change within these walls! \n\n\n\nSPONSORS OF THE VALENTINE ROYALE CASINO NIGHT \n\n\n\nPresenting Sponsors \n\n\n\nCunningham Restaurant Group \n\n\n\nRoyal Flush Sponsors \n\n\n\nGlenroy Construction Co \n\n\n\nFirst Internet Bank \n\n\n\nHendricks County Community Connect \n\n\n\nStraight Sponsors \n\n\n\nYolanda and JR MeansRadiant CommunitiesChloie Modglin
URL:https://wyrz.org/event/winning-big-for-families-of-hendricks-county-a-valentine-royale-casino-night/
LOCATION:CRG Events Center\, 2499 Perry Crossing Way\, Plainfield\, Indiana\, 46168
ATTACH;FMTTYPE=image/jpeg:https://wyrz.org/wp-content/uploads/2026/01/Family-Promise.jpg
ORGANIZER;CN="Family Promise":MAILTO:info@familypromisehendrickscounty.org
END:VEVENT
BEGIN:VEVENT
DTSTART;TZID=America/Indiana/Indianapolis:20260312T190000
DTEND;TZID=America/Indiana/Indianapolis:20260312T190000
DTSTAMP:20260422T181531
CREATED:20260309T133611Z
LAST-MODIFIED:20260309T134953Z
UID:46639-1773342000-1773342000@wyrz.org
SUMMARY:The Little Mermaid the Musical at Tri-West High School
DESCRIPTION:Performance is in the TWHS Auditorium!Please enter through Door 5 and ENJOY!!!Doors will open at 6:30pm!Seating is first come\, first serve.(There is no reserved seating or seating by seat number)
URL:https://wyrz.org/event/the-little-mermaid-the-musical-at-tri-west-high-school/
LOCATION:Tri-West High School\, 7883 IN-39\, Lizton\, Indiana
ATTACH;FMTTYPE=image/jpeg:https://wyrz.org/wp-content/uploads/2026/03/641621758_1322435729912001_2747944637585078979_n.jpg
END:VEVENT
BEGIN:VEVENT
DTSTART;TZID=America/Indiana/Indianapolis:20260313T190000
DTEND;TZID=America/Indiana/Indianapolis:20260313T190000
DTSTAMP:20260422T181531
CREATED:20260309T133817Z
LAST-MODIFIED:20260309T133821Z
UID:46645-1773428400-1773428400@wyrz.org
SUMMARY:The Little Mermaid the Musical at Tri-West High School
DESCRIPTION:Performance is in the TWHS Auditorium!Please enter through Door 5 and ENJOY!!!Doors will open at 6:30pm!Seating is first come\, first serve.(There is no reserved seating or seating by seat number)
URL:https://wyrz.org/event/the-little-mermaid-the-musical-at-tri-west-high-school-2/
LOCATION:Tri-West High School\, 7883 IN-39\, Lizton\, Indiana
ATTACH;FMTTYPE=image/jpeg:https://wyrz.org/wp-content/uploads/2026/03/641621758_1322435729912001_2747944637585078979_n.jpg
END:VEVENT
BEGIN:VEVENT
DTSTART;TZID=America/Indiana/Indianapolis:20260314T140000
DTEND;TZID=America/Indiana/Indianapolis:20260314T140000
DTSTAMP:20260422T181531
CREATED:20260309T134056Z
LAST-MODIFIED:20260309T134100Z
UID:46649-1773496800-1773496800@wyrz.org
SUMMARY:The Little Mermaid the Musical at Tri-West High School
DESCRIPTION:Performance is in the TWHS Auditorium!Please enter through Door 5 and ENJOY!!!Doors will open at 6:30pm!Seating is first come\, first serve.(There is no reserved seating or seating by seat number)
URL:https://wyrz.org/event/the-little-mermaid-the-musical-at-tri-west-high-school-3/
LOCATION:Tri-West High School\, 7883 IN-39\, Lizton\, Indiana
ATTACH;FMTTYPE=image/jpeg:https://wyrz.org/wp-content/uploads/2026/03/641621758_1322435729912001_2747944637585078979_n.jpg
END:VEVENT
BEGIN:VEVENT
DTSTART;TZID=America/Indiana/Indianapolis:20260314T190000
DTEND;TZID=America/Indiana/Indianapolis:20260314T190000
DTSTAMP:20260422T181531
CREATED:20260309T134239Z
LAST-MODIFIED:20260309T134243Z
UID:46651-1773514800-1773514800@wyrz.org
SUMMARY:The Little Mermaid the Musical at Tri-West High School
DESCRIPTION:Performance is in the TWHS Auditorium!Please enter through Door 5 and ENJOY!!!Doors will open at 6:30pm!Seating is first come\, first serve.(There is no reserved seating or seating by seat number)
URL:https://wyrz.org/event/the-little-mermaid-the-musical-at-tri-west-high-school-4/
LOCATION:Tri-West High School\, 7883 IN-39\, Lizton\, Indiana
ATTACH;FMTTYPE=image/jpeg:https://wyrz.org/wp-content/uploads/2026/03/641621758_1322435729912001_2747944637585078979_n.jpg
END:VEVENT
BEGIN:VEVENT
DTSTART;TZID=America/Indiana/Indianapolis:20260328T130000
DTEND;TZID=America/Indiana/Indianapolis:20260328T130000
DTSTAMP:20260422T181531
CREATED:20260302T171846Z
LAST-MODIFIED:20260302T171849Z
UID:46605-1774702800-1774702800@wyrz.org
SUMMARY:Military Veteran Benefits Overview Workshop
DESCRIPTION:American Legion Colonel Billie J Holmes Memorial Post 331 will sponsor a free “Veteran’s Benefit Overview Workshop” with the Hendricks County Veteran’s Service Office on Saturday March 28th\, 2026 at 1 p.m. The workshop will be at Post 331\, 636 East Main Street\, Brownsburg\, IN 46112. \n\n\n\nThe workshop aims to ensure US military veterans know what benefits are available to them at the federal and state levels. Some veterans\, as they age\, may become eligible for benefits they may not realize or do not know the proper procedures to obtain their benefits. This workshop will answer these questions and concerns. \n\n\n\nPlease consider attending this workshop if you believe you may be eligible for a veteran benefit or want to learn what benefits are available. The workshop is open to the public and is not limited to American Legion members. \n\n\n\nSpouses\, surviving spouses\, & children of veterans are also welcome. Light refreshments will be served. \n\n\n\nFor more information: \n\n\n\nAmerican Legion\, Colonel Billie J Holmes Memorial Post 331 \n\n\n\n636 East Main Street \n\n\n\nBrownsburg\, IN\, 46112 \n\n\n\nPHONE: (317) 507-2588 \n\n\n\nCONTACT PERSON: Glenn Nulty
URL:https://wyrz.org/event/military-veteran-benefits-overview-workshop/
LOCATION:Brownsburg American Legion\, 636 E Main St\, Brownsburg\, IN\, 46112
ATTACH;FMTTYPE=image/jpeg:https://wyrz.org/wp-content/uploads/2026/03/Brownsburg-American-Legion-Post.jpg
END:VEVENT
BEGIN:VEVENT
DTSTART;TZID=America/Indiana/Indianapolis:20260329T140000
DTEND;TZID=America/Indiana/Indianapolis:20260329T140000
DTSTAMP:20260422T181531
CREATED:20260220T131955Z
LAST-MODIFIED:20260220T131957Z
UID:46505-1774792800-1774792800@wyrz.org
SUMMARY:Hope Community Church Easter Egg Hunt
DESCRIPTION:Hope Community Church in Brownsburg invites the community to its 12th annual Easter Egg Hunt. There will be 10\,000 eggs! Areas will be separated for specific ages (0-3\, 4-6\, 7-9\, 10-12) so that everyone will leave with lots of fun\, prizes\, and treats. Please arrive early to park and enter our free drawing for basket giveaways. All activities will take place outdoors\, so please dress appropriately. The egg hunt will start promptly at 2 p.m. This is a FREE event.Please pre-register at: https://visithope.org/WHEN: Sunday\, March 29 at 2 p.m.WHERE: 3350 Indiana 267\, Brownsburg\, IN 46112PHONE: 317-852-2616WEBSITE: Church in Brownsburg Indiana | Hope Community ChurchWHO: All kids up through age 12 and their families
URL:https://wyrz.org/event/hope-community-church-easter-egg-hunt/
LOCATION:Hope Community Church\, 3350 Indiana 267\, Brownsburg\, Indiana\, 46112
ATTACH;FMTTYPE=image/jpeg:https://wyrz.org/wp-content/uploads/2026/02/EasterEggHunt_BANNERWP.jpg
ORGANIZER;CN="Hope Community Church":MAILTO:hopechurch@visithope.org
END:VEVENT
BEGIN:VEVENT
DTSTART;TZID=America/Indiana/Indianapolis:20260424T180000
DTEND;TZID=America/Indiana/Indianapolis:20260424T213000
DTSTAMP:20260422T181531
CREATED:20260302T132551Z
LAST-MODIFIED:20260302T172711Z
UID:46583-1777053600-1777066200@wyrz.org
SUMMARY:From SURVIVING to THRIVING - A Marriage Seminar
DESCRIPTION:From SURVIVING to THRIVING – A Marriage Seminar \n\n\n\n\n\n\n\n\n\n\n\nJoin us for practical\, biblical help to move your marriage from sustaining to flourishing. \n\n\n\n\n\n\n\n\n\n\n\n\n\n\n\nLocation: Hope Community Church \n\n\n\nDate: April 24-25\, 2026 \n\n\n\nTime of event is Friday\, April 24 from 6:00-9:30 PM; Saturday\, April 25 from 8:30 AM – 1:00 PM. \n\n\n\nDinner is provided on Friday; a continental breakfast on Saturday morning. Cost is $15/person ($30 per couple) payable at time of registration. Childcare is available upon request (please let us know how many and ages of children you need care for). Last day to sign up is April 17. To register\, visit: https://visithope.churchcenter.com/registrations/events/3488528 
URL:https://wyrz.org/event/surviving-to-thriving-a-marriage-seminar/
LOCATION:Hope Community Church\, 3350 Indiana 267\, Brownsburg\, Indiana\, 46112
ATTACH;FMTTYPE=image/jpeg:https://wyrz.org/wp-content/uploads/2026/03/From-Surviving-to-Presentation.jpg
ORGANIZER;CN="Hope Community Church":MAILTO:hopechurch@visithope.org
END:VEVENT
BEGIN:VEVENT
DTSTART;TZID=America/Indiana/Indianapolis:20260425T083000
DTEND;TZID=America/Indiana/Indianapolis:20260425T130000
DTSTAMP:20260422T181531
CREATED:20260302T133141Z
LAST-MODIFIED:20260302T133144Z
UID:46592-1777105800-1777122000@wyrz.org
SUMMARY:From SURVIVING to THRIVING - A Marriage Seminar
DESCRIPTION:From SURVIVING to THRIVING – A Marriage Seminar \n\n\n\n\n\n\n\n\n\n\n\nJoin us for practical\, biblical help to move your marriage from sustaining to flourishing. \n\n\n\n\n\n\n\n\n\n\n\n\n\n\n\nLocation: Hope Community Church \n\n\n\nDate: April 24-25\, 2026 \n\n\n\nTime of event is Friday\, April 24 from 6:00-9:30 PM; Saturday\, April 25 from 8:30 AM – 1:00 PM. \n\n\n\nDinner is provided on Friday; a continental breakfast on Saturday morning. Cost is $15/person ($30 per couple) payable at time of registration. Childcare is available upon request (please let us know how many and ages of children you need care for). Last day to sign up is April 17. To register\, visit: https://visithope.churchcenter.com/registrations/events/3488528 
URL:https://wyrz.org/event/from-surviving-to-thriving-a-marriage-seminar/
LOCATION:Indiana
ATTACH;FMTTYPE=image/jpeg:https://wyrz.org/wp-content/uploads/2026/03/From-Surviving-to-Presentation.jpg
END:VEVENT
BEGIN:VEVENT
DTSTART;TZID=America/Indiana/Indianapolis:20260426T120000
DTEND;TZID=America/Indiana/Indianapolis:20260426T160000
DTSTAMP:20260422T181531
CREATED:20260417T105324Z
LAST-MODIFIED:20260417T105329Z
UID:46978-1777204800-1777219200@wyrz.org
SUMMARY:B&O Trail Association Trail Mixer at Tilden Trailhead
DESCRIPTION:Brownsburg\, Indiana\, April 17\, 2026 – The B&O Trail Association (BOTA) invites the community to a Trail Mixer event on Saturday\, April 26\, from noon to 4 p.m. at the Tilden Trailhead\, where the B&O Trail meets County Road 500 East. \n\n\n\nThe event will celebrate National Trails Day and introduce the B&O Trail’s new branding as part of the Greater Indy Trailways network. Attendees will have an opportunity to connect with fellow trail users\, learn more about BOTA’s construction plans and the expanding regional trail system\, and experience one of the trail’s key access points. The Tilden Trailhead was renovated in 2025 and now features ample parking as well as the Homeward Bound sculpture. \n\n\n\n\n\n\n\nBOTA will offer complimentary swag on a first-come\, first-served basis\, including hats featuring the new B&O Trail logo. Light refreshments will be served throughout the afternoon. \n\n\n\nAt 2 p.m.\, participants are invited to join a group walk from the Tilden Trailhead to the White Lick Creek Bridge\, offering a guided opportunity to enjoy the trail and connect with others in the community. \n\n\n\nThe Tilden Trailhead serves as an important access point along the B&O Trail\, which continues to grow as part of a larger vision to connect communities across central Indiana. As a component of the Greater Indy Trailways\, the B&O Trail plays a key role in linking regional destinations and expanding recreational opportunities. \n\n\n\nThe B&O Trail Association is a nonprofit\, all-volunteer organization founded in 1993 to create a recreational trail along the abandoned Baltimore & Ohio Railroad corridor. \n\n\n\nTo learn more or get involved\, visit botrail.org and follow them on Facebook at https://www.facebook.com/botrail/.
URL:https://wyrz.org/event/bo-trail-association-trail-mixer-at-tilden-trailhead/
LOCATION:Indiana
ATTACH;FMTTYPE=image/png:https://wyrz.org/wp-content/uploads/2026/04/BO-Trail-Assosciation.png
ORGANIZER;CN="B&O Trail Assosciation":MAILTO:contact@botrail.org
END:VEVENT
BEGIN:VEVENT
DTSTART;TZID=America/Indiana/Indianapolis:20260509T090000
DTEND;TZID=America/Indiana/Indianapolis:20260509T140000
DTSTAMP:20260422T181531
CREATED:20260227T151532Z
LAST-MODIFIED:20260227T151939Z
UID:46563-1778317200-1778335200@wyrz.org
SUMMARY:Hendricks County Authors' Showcase
DESCRIPTION:
URL:https://wyrz.org/event/hendricks-county-authors-showcase/
LOCATION:100 Block South Washington Street Danville Indiana\, 100 South Washington Street\, Danville\, Indiana\, 46122
ATTACH;FMTTYPE=image/png:https://wyrz.org/wp-content/uploads/2026/02/2nd-Hendricks-County-Authors-1.png
END:VEVENT
BEGIN:VEVENT
DTSTART;TZID=America/Indiana/Indianapolis:20260515T173000
DTEND;TZID=America/Indiana/Indianapolis:20260515T193000
DTSTAMP:20260422T181531
CREATED:20260420T115145Z
LAST-MODIFIED:20260420T115150Z
UID:46996-1778866200-1778873400@wyrz.org
SUMMARY:Porch Party with the Indianapolis Motor Speedway at the Avon-Washington Township Public Library
DESCRIPTION:Avon\, IN— Race fans\, start your engines! The Avon-Washington Township Public Library (AWTPL) is proud to announce its second Porch Party with the Indianapolis Motor Speedway (IMS)\, happening on Friday\, May 15th\, from 5:30 to 7:30. This is a very special event with activities for all ages\, and for which the library will be staying open past its usual Friday hours\, until 8 PM. \n\n\n\nLast year\, over 500 fans came to the library to pick up porching kits\, attend a presentation from the Harrison Center\, meet INDYCAR driver Callum Ilott\, and check out the activities from the Speedway and their partners. This May will be another great opportunity to pick up a kit with everything you need to decorate for your own Porch Party (while supplies last)\, as well as play some Brickyard Crossing-themed mini golf\, mess around with a racing simulator\, get registered for Summer Reading\, and more. No registration is required to come to this completely free event; add it to your calendar from avonlib.librarycalendar.com.  \n\n\n\nGet ready for the Porch Party by registering for the AWTPL Hoosier Reading Challenge\, which is available now through May 8th\, for all ages. Readers log time spent reading or listening to books\, as well as various Indianapolis 500 and Hoosier author themed activities\, to earn raffle tickets which can be put towards prizes like tickets to Indy 500 qualifying weekend at the track\, Indianapolis Motor Speedway merch\, and a 2025 Indy 500 program signed by the entire field of drivers! The participant who logs the most reading during the challenge will also win a bonus prize – the Borg-Reader trophy\, which will be presented to them during the Porch Party. The Hoosier Reading Challenge is available online at avonlibrary.net and in the Beanstack app\, where you can find all of the library’s reading challenges. Visit www.AvonLibrary.net or stop by the library for more information.
URL:https://wyrz.org/event/porch-party-with-the-indianapolis-motor-speedway-at-the-avon-washington-township-public-library/
LOCATION:Avon-Washington Township Public Library\, 498 N Avon Ave\, Avon\, Indiana\, 46123
ATTACH;FMTTYPE=image/jpeg:https://wyrz.org/wp-content/uploads/2026/04/IMS-at-AWTPL.jpg
ORGANIZER;CN="Avon-Washington Township Public Library":MAILTO:awtpl@avonlibrary.net
END:VEVENT
END:VCALENDAR