BEGIN:VCALENDAR
VERSION:2.0
PRODID:-//WYRZ.org - ECPv6.15.20//NONSGML v1.0//EN
CALSCALE:GREGORIAN
METHOD:PUBLISH
X-ORIGINAL-URL:https://wyrz.org
X-WR-CALDESC:Events for WYRZ.org
REFRESH-INTERVAL;VALUE=DURATION:PT1H
X-Robots-Tag:noindex
X-PUBLISHED-TTL:PT1H
BEGIN:VTIMEZONE
TZID:America/Indiana/Indianapolis
BEGIN:DAYLIGHT
TZOFFSETFROM:-0500
TZOFFSETTO:-0400
TZNAME:EDT
DTSTART:20250309T070000
END:DAYLIGHT
BEGIN:STANDARD
TZOFFSETFROM:-0400
TZOFFSETTO:-0500
TZNAME:EST
DTSTART:20251102T060000
END:STANDARD
BEGIN:DAYLIGHT
TZOFFSETFROM:-0500
TZOFFSETTO:-0400
TZNAME:EDT
DTSTART:20260308T070000
END:DAYLIGHT
BEGIN:STANDARD
TZOFFSETFROM:-0400
TZOFFSETTO:-0500
TZNAME:EST
DTSTART:20261101T060000
END:STANDARD
BEGIN:DAYLIGHT
TZOFFSETFROM:-0500
TZOFFSETTO:-0400
TZNAME:EDT
DTSTART:20270314T070000
END:DAYLIGHT
BEGIN:STANDARD
TZOFFSETFROM:-0400
TZOFFSETTO:-0500
TZNAME:EST
DTSTART:20271107T060000
END:STANDARD
END:VTIMEZONE
BEGIN:VEVENT
DTSTART;TZID=America/Indiana/Indianapolis:20260203T180000
DTEND;TZID=America/Indiana/Indianapolis:20260203T180000
DTSTAMP:20260422T102257
CREATED:20260112T144716Z
LAST-MODIFIED:20260112T144722Z
UID:46253-1770141600-1770141600@wyrz.org
SUMMARY:Hendricks County Soil & Water Conservation District Annual Meeting
DESCRIPTION:The Hendricks County Soil & Water Conservation District convenes its 74th annual meeting Tuesday\, February 3\, at 6 p.m. \n\n\n\nThe event at the county fairgrounds conference center at Danville’s east side is open to everyone interested in district activities. \n\n\n\nGuest speaker John Hays of Hays Family Farm believes in “the complete life cycle” from soil health\, plant and animal health\, and ultimately human health. \n\n\n\nScheduled annual awards recognize Loughmiller Land Stewardship\, Lawson Education Award; and local FFA and 4-H achievements. \n\n\n\nReservations for the gathering\, which includes a catered dinner\, are required by January 26. RSVP to Teri Lents\, (317) 745-2555\, ext. 3\, or teri.lents@in.nacdnet.net.
URL:https://wyrz.org/event/hendricks-county-soil-water-conservation-district-annual-meeting/
LOCATION:Hendricks County 4-H Fairgrounds\, 1900 E Main St\, Danville\, Indiana\, 46112
ATTACH;FMTTYPE=image/jpeg:https://wyrz.org/wp-content/uploads/2020/01/Hendricks-County-Soil-and-Water-Conservation-District.jpg
ORGANIZER;CN="Hendricks County Soil &#038%3B Water Conservation District":MAILTO:hcswconservation@gmail.com
END:VEVENT
END:VCALENDAR