BEGIN:VCALENDAR
VERSION:2.0
PRODID:-//WYRZ.org - ECPv6.15.20//NONSGML v1.0//EN
CALSCALE:GREGORIAN
METHOD:PUBLISH
X-WR-CALNAME:WYRZ.org
X-ORIGINAL-URL:https://wyrz.org
X-WR-CALDESC:Events for WYRZ.org
REFRESH-INTERVAL;VALUE=DURATION:PT1H
X-Robots-Tag:noindex
X-PUBLISHED-TTL:PT1H
BEGIN:VTIMEZONE
TZID:America/Indiana/Indianapolis
BEGIN:DAYLIGHT
TZOFFSETFROM:-0500
TZOFFSETTO:-0400
TZNAME:EDT
DTSTART:20240310T070000
END:DAYLIGHT
BEGIN:STANDARD
TZOFFSETFROM:-0400
TZOFFSETTO:-0500
TZNAME:EST
DTSTART:20241103T060000
END:STANDARD
BEGIN:DAYLIGHT
TZOFFSETFROM:-0500
TZOFFSETTO:-0400
TZNAME:EDT
DTSTART:20250309T070000
END:DAYLIGHT
BEGIN:STANDARD
TZOFFSETFROM:-0400
TZOFFSETTO:-0500
TZNAME:EST
DTSTART:20251102T060000
END:STANDARD
BEGIN:DAYLIGHT
TZOFFSETFROM:-0500
TZOFFSETTO:-0400
TZNAME:EDT
DTSTART:20260308T070000
END:DAYLIGHT
BEGIN:STANDARD
TZOFFSETFROM:-0400
TZOFFSETTO:-0500
TZNAME:EST
DTSTART:20261101T060000
END:STANDARD
END:VTIMEZONE
BEGIN:VEVENT
DTSTART;TZID=America/Indiana/Indianapolis:20251128T160000
DTEND;TZID=America/Indiana/Indianapolis:20251128T190000
DTSTAMP:20260422T145222
CREATED:20251117T222151Z
LAST-MODIFIED:20251117T222212Z
UID:45996-1764345600-1764356400@wyrz.org
SUMMARY:WYRZ Live Remote - Christmas on the Square
DESCRIPTION:DANVILLE\, Ind. – One of Danville’s most treasured holiday traditions returns the day after Thanksgiving as the Downtown Danville Partnership and the Town of Danville\, with sponsor Hawkeye Storage\, presents the Annual Christmas on the Square & Tree Lighting Celebration on Friday\, November 28 from 4–7 p.m. \n\n\n\n\n\n\n\nDowntown will come alive with the sights and sounds of the season as families gather for an evening filled with holiday cheer\, twinkling lights\, live entertainment\, festive treats\, and fun for all ages. The community can enjoy caroling\, a live nativity scene\, letter writing to Santa\, holiday glitter tattoos\, snowball fights\, and the Danville Fire Department’s infamous chili. Be on the lookout for Grinch sightings and other holiday surprises\, too! \n\n\n\nThe highlight of the night comes when Santa\, himself\, takes the stage to light the town’s Christmas tree\, officially kicking off the holiday season in downtown Danville. \n\n\n\n“This event captures everything we love about the holidays in Danville — family\, community\, and the magic of the season\,” said a Tara Cobourn\, Community & Project Coordinator of the Downtown Danville Partnership. “We’re especially excited to welcome the Children’s Entrepreneurial Market\, a new activity showcasing our own young local makers and their creative spirit.” \n\n\n\nSo grab your mittens\, bring your loved ones\, and join the celebration as downtown Danville sparkles and shines for another unforgettable Christmas on the Square. \n\n\n\nThis event and many of the activities are available free to the community thanks to the generous support of event sponsors including Hawkeye Storage\, Hendricks Regional Health\, NuMedia Marketing\, Ryan Homes\, Winters Tax & Consulting\, Staley Construction\, North Salem State Bank\, and The Kickstand. \n\n\n\nTo learn more about the event\, visit discoverdowntowndanville.org or follow Downtown Danville Indiana on Facebook. \n\n\n\nAbout Downtown Danville \n\n\n\nDanville’s historic downtown is at the heart of Hendricks County and has welcomed visitors seeking a small-town atmosphere and unique experiences for 200 years. Home to a variety of locally owned shops and restaurants\, $5 shows at the historic Royal Theatre\, and Indiana’s oldest\, continually operated newspaper\, Downtown Danville is hub of community life where history\, hospitality\, and hometown pride come together. \n\n\n\nThe Downtown Danville Partnership is a community-driven\, 501(c)(3) non-profit dedicated to developing\, promoting\, and preserving Danville’s historic courthouse square. Learn more at discoverdowntowndanville.org.Edit
URL:https://wyrz.org/event/wyrz-live-remote-christmas-on-the-square/
LOCATION:Indiana
ATTACH;FMTTYPE=image/jpeg:https://wyrz.org/wp-content/uploads/2024/08/WYRZ-Landscape-Facebook1.jpg
END:VEVENT
END:VCALENDAR